BEGIN:VCALENDAR
PRODID:-//eluceo/ical//2.0/EN
VERSION:2.0
CALSCALE:GREGORIAN
BEGIN:VEVENT
UID:d882b809009a6b6adca34aef8a835771
DTSTAMP:20260419T214717Z
SUMMARY:Federation Ben Gurion Society Dinner
DESCRIPTION:United Jewish Federation of Utah\nCalendar\nhttps://shalomutah.
 org/united-jewish-federation-of-utah-calendar/federation-ben-gurion-societ
 y-dinner\n\nBen Gurion Society Annual Dinner\n\nSunday\, March 3\, 2019\nG
 rand America Hotel\nSalt Lake City\n\nHonoring\nJody M. Gross & Dr. Jay Ja
 cobson\n\nBen Gurion Society\; a community of philanthropists who make an 
 impact in the Jewish community by contributing $1000 or more to the United
  Jewish Federation of Utah’s annual campaign.
DTSTART;TZID=America/Denver:20190303T000000
DTEND;TZID=America/Denver:20190303T235959
END:VEVENT
END:VCALENDAR
