BEGIN:VCALENDAR
PRODID:-//eluceo/ical//2.0/EN
VERSION:2.0
CALSCALE:GREGORIAN
BEGIN:VEVENT
UID:e751380966c64badea533a966e8f6e36
DTSTAMP:20260421T170147Z
SUMMARY:Federation Ben Gurion Society Dinner 2020
DESCRIPTION:United Jewish Federation of Utah\nCalendar\nhttps://shalomutah.
 org/united-jewish-federation-of-utah-calendar/federation-ben-gurion-societ
 y-dinner-2020\n\ntbd
DTSTART;TZID=America/Denver:20200315T180000
DTEND;TZID=America/Denver:20200315T210000
END:VEVENT
END:VCALENDAR
