BEGIN:VCALENDAR
PRODID:-//eluceo/ical//2.0/EN
VERSION:2.0
CALSCALE:GREGORIAN
BEGIN:VEVENT
UID:24598dbac990c03fdc6f9fede4cecfc1
DTSTAMP:20260421T111346Z
SUMMARY:Federation Ben Gurion Society Gala
DESCRIPTION:United Jewish Federation of Utah\nCalendar\nhttps://shalomutah.
 org/united-jewish-federation-of-utah-calendar/federation-ben-gurion-societ
 y-purim-party\n\nJoin us Thursday\, March 16th\, 2017 for the United Jewis
 h Federation of Utah’s Annual Ben Gurion Society Gala at The Grand Ameri
 ca Hotel. We will be celebrating our Ben Gurion donors and the work and im
 pact of the Jewish Federation.\n\n 
DTSTART;TZID=America/Denver:20170316T180000
DTEND;TZID=America/Denver:20170316T210000
END:VEVENT
END:VCALENDAR
