BEGIN:VCALENDAR
PRODID:-//eluceo/ical//2.0/EN
VERSION:2.0
CALSCALE:GREGORIAN
BEGIN:VEVENT
UID:0144d21bb049e9793430d541a281b0cc
DTSTAMP:20260420T143512Z
SUMMARY:Federation Girls Night Out July 2017
DESCRIPTION:United Jewish Federation of Utah\nCalendar\nhttps://shalomutah.
 org/united-jewish-federation-of-utah-calendar/federation-girls-night-out-j
 uly-2017\n\nWe are so excited to be celebrating THREE YEARS of Girls’ Ni
 ght Out! Thank you all for your continued support\, donations of yummy foo
 d and wine at our monthly events\, as well as our great presenters and hos
 ts over the past two years. Without YOU\, we would not be still going stro
 ng!\n\nPlease join for our Fourth ANNUAL Wine Tasting with John Davis and 
 the United Jewish Federation of Utah “Girls’ Night Out” on Tuesday\,
  July 18\, 2017.\n\n Date: Tuesday\, July 18\, 2017\n\nTime: 7:00 p.m....
DTSTART;TZID=America/Denver:20170718T190000
DTEND;TZID=America/Denver:20170718T210000
END:VEVENT
END:VCALENDAR
