BEGIN:VCALENDAR
PRODID:-//eluceo/ical//2.0/EN
VERSION:2.0
CALSCALE:GREGORIAN
BEGIN:VEVENT
UID:04cd2be7fe6aacab03e593a5e911931f
DTSTAMP:20260421T010026Z
SUMMARY:Federation Guys Night Out
DESCRIPTION:United Jewish Federation of Utah\nCalendar\nhttps://shalomutah.
 org/united-jewish-federation-of-utah-calendar/federation-guys-night-out\n\
 nI hope youâ€™ll join me at our next United Jewish Federation of Utah Men
 â€™s Event on Thursday January 21st - at which our guest speaker will be T
 om Moyer. Tom is a mechanical engineer who works on explosive ordnance dis
 posal robots\, but is also passionate about climate change â€“ and volunte
 ers for Citizensâ€™ Climate lobby\, a non-partisan group that works with b
 oth political parties to achieve its goals.\n\nÂ Date:Â Â Â Â Â Â Â Â Â Â 
 Â Â Â Â Thursday\, January 21st\n\nÂ Time:Â Â Â  Â Â Â Â Â...
DTSTART;TZID=America/Denver:20160121T180000
DTEND;TZID=America/Denver:20160121T203000
END:VEVENT
END:VCALENDAR
