BEGIN:VCALENDAR
PRODID:-//eluceo/ical//2.0/EN
VERSION:2.0
CALSCALE:GREGORIAN
BEGIN:VEVENT
UID:7e9431f37de9bdfca16b88022c0f7f67
DTSTAMP:20260421T183334Z
SUMMARY:Federation Guys Night Out
DESCRIPTION:United Jewish Federation of Utah\nCalendar\nhttps://shalomutah.
 org/united-jewish-federation-of-utah-calendar/federation-guys-night-out-14
 48477605\n\nI hope you&rsquo\;ll join me at our next United Jewish Federat
 ion of Utah Men&rsquo\;s Event on Thursday December 17th - at which our gu
 est speaker will be Richard Barros. Rick practiced trial law in Delaware f
 or 42 years and is currently Of Counsel to the boutique trial law firm of 
 Barros\, McNamara\, Malkiewicz and Taylor in Dover\, Delaware.\n  \nDate: 
               Thursday\, December 17th \nTime:               6:00pm &ndash
 \; 8:00pm \n\nPlace:              Home of Rick Barros\n                   
               ...
DTSTART;TZID=America/Denver:20151217T180000
DTEND;TZID=America/Denver:20151217T203000
END:VEVENT
END:VCALENDAR
