BEGIN:VCALENDAR
PRODID:-//eluceo/ical//2.0/EN
VERSION:2.0
CALSCALE:GREGORIAN
BEGIN:VEVENT
UID:ec6abc3ea31b57267c3a4d615425b6d1
DTSTAMP:20260423T081119Z
SUMMARY:Federation Hanukkah Party! (21+)
DESCRIPTION:United Jewish Federation of Utah\nCalendar\nhttps://shalomutah.
 org/united-jewish-federation-of-utah-calendar/federation-hanukkah-party\n\
 nHanukkah Celebration (21+ event): December 7\, 6-9 PM. Park City area (lo
 cation shared after registration). \n\n \n\nPlease join us for a Hanukkah
  celebration featuring a latke bar where you can create your perfect latke
 \, specialty drinks made with Kasta Elion Vodka\, and more! Capacity at th
 e venue is limited\, so we encourage you to sign up quickly.\n\n \n\nhttp
 s://shalomutah.ticketspice.com/hanukkah-party-21\n\n \n\n 
DTSTART;TZID=America/Denver:20251207T180000
DTEND;TZID=America/Denver:20251207T210000
END:VEVENT
END:VCALENDAR
