BEGIN:VCALENDAR
PRODID:-//eluceo/ical//2.0/EN
VERSION:2.0
CALSCALE:GREGORIAN
BEGIN:VEVENT
UID:e9a3f1777f2cc78875020eaacda1590a
DTSTAMP:20260422T140343Z
SUMMARY:Federation Lunch & Learn
DESCRIPTION:United Jewish Federation of Utah\nCalendar\nhttps://shalomutah.
 org/united-jewish-federation-of-utah-calendar/federation-lunch--learn\n\nF
 ederation Lunch & Learn
DTSTART;TZID=America/Denver:20131002T110000
DTEND;TZID=America/Denver:20131002T130000
END:VEVENT
END:VCALENDAR
