BEGIN:VCALENDAR
PRODID:-//eluceo/ical//2.0/EN
VERSION:2.0
CALSCALE:GREGORIAN
BEGIN:VEVENT
UID:ba4c373433ab146611489215c02e9c3b
DTSTAMP:20260422T154941Z
SUMMARY:Federation Lunch and Learn
DESCRIPTION:United Jewish Federation of Utah\nCalendar\nhttps://shalomutah.
 org/united-jewish-federation-of-utah-calendar/federation-lunch-and-learn\n
 \nFederation Lunch and Learn
DTSTART;TZID=America/Denver:20131106T110000
DTEND;TZID=America/Denver:20131106T130000
END:VEVENT
END:VCALENDAR
