BEGIN:VCALENDAR
PRODID:-//eluceo/ical//2.0/EN
VERSION:2.0
CALSCALE:GREGORIAN
BEGIN:VEVENT
UID:5b0f011494e3148cb1f659b2023e7897
DTSTAMP:20260419T155459Z
SUMMARY:Federation Lunch and Learn July 2017
DESCRIPTION:United Jewish Federation of Utah\nCalendar\nhttps://shalomutah.
 org/united-jewish-federation-of-utah-calendar/federation-lunch-and-learn-j
 uly-2017\n\n \n\nDiscussion Leader:  Welcome back Professor Jackie Osher
 ow\, distinguished Professor of English at the University of Utah.\n\nTopi
 c: A lesson on Jewish women poets\n\nCost : Free\n\nFood:   Please RSVP 
 and sign up for food. We will need appetizer (2)\, bread (1)\, salads (2) 
 side dish (4)\, main dish Protein type (2)\, fruit (2)\, and dessert (2). 
 \n\nRSVP: Drora doren@shalomutah.org 801-581-0102\n\nFriends are Welcome!\
 n\nQuestions: Sheri Jaffa\, Lunch & Learn Chair sherijaffa@gmail.com
DTSTART;TZID=America/Denver:20170712T120000
DTEND;TZID=America/Denver:20170712T140000
END:VEVENT
END:VCALENDAR
