BEGIN:VCALENDAR
PRODID:-//eluceo/ical//2.0/EN
VERSION:2.0
CALSCALE:GREGORIAN
BEGIN:VEVENT
UID:f1bb0058f49d3dd9b29404d23318ce40
DTSTAMP:20260420T135723Z
SUMMARY:Federation Men's Club
DESCRIPTION:United Jewish Federation of Utah\nCalendar\nhttps://shalomutah.
 org/united-jewish-federation-of-utah-calendar/federation-mens-club\n\nFede
 ration Men's Club
DTSTART;TZID=America/Denver:20131219T180000
DTEND;TZID=America/Denver:20131219T183000
END:VEVENT
END:VCALENDAR
