BEGIN:VCALENDAR
PRODID:-//eluceo/ical//2.0/EN
VERSION:2.0
CALSCALE:GREGORIAN
BEGIN:VEVENT
UID:50643fd5d72815a1ce930840880597dd
DTSTAMP:20260421T075351Z
SUMMARY:Federation Men's Group
DESCRIPTION:United Jewish Federation of Utah\nCalendar\nhttps://shalomutah.
 org/united-jewish-federation-of-utah-calendar/federation-mens-group\n\nFed
 eration Men's Group
DTSTART;TZID=America/Denver:20131017T180000
DTEND;TZID=America/Denver:20131017T200000
END:VEVENT
END:VCALENDAR
