BEGIN:VCALENDAR
PRODID:-//eluceo/ical//2.0/EN
VERSION:2.0
CALSCALE:GREGORIAN
BEGIN:VEVENT
UID:999d8928208e44fb78212f21c403bae3
DTSTAMP:20260422T104756Z
SUMMARY:Federation Women's Lunch and Learn
DESCRIPTION:United Jewish Federation of Utah\nCalendar\nhttps://shalomutah.
 org/united-jewish-federation-of-utah-calendar/federation-womens-lunch-and-
 learn\n\nWOMEN’S LUNCH & LEARN\n\nPlease join us for Lunch and Learn on
  Wednesday\, February 10\, 2016\, 12:00pm-2:00pm\, at the home of Elissa 
 Oshinsky.\n\nDiscussion Leader:  Professor Jackie Osherow\, distinguished
  Professor of English at the University of Utah\n\nReading Prep: Please re
 ad I Samuel\, chapter 30 – II Samuel\, chapter 12 as we progress to tack
 le King David. \n\nRSVP:  doren@shalomutah.org  or call Drora at 801-58
 1-0102\n\nFood:   Please RSVP and sign up for food. Elissa kindly of...
DTSTART;TZID=America/Denver:20160210T120000
DTEND;TZID=America/Denver:20160210T140000
END:VEVENT
END:VCALENDAR
