BEGIN:VCALENDAR
PRODID:-//eluceo/ical//2.0/EN
VERSION:2.0
CALSCALE:GREGORIAN
BEGIN:VEVENT
UID:c2e9134076e610b520ccdaceab054348
DTSTAMP:20260421T201114Z
SUMMARY:Federation's Ben Gurion Society Event
DESCRIPTION:United Jewish Federation of Utah\nCalendar\nhttps://shalomutah.
 org/united-jewish-federation-of-utah-calendar/federations-ben-gurion-socie
 ty-event-1446593033\n\nAn elegant evening. Fundraising event.
DTSTART;TZID=America/Denver:20160309T180000
DTEND;TZID=America/Denver:20160309T210000
END:VEVENT
END:VCALENDAR
