BEGIN:VCALENDAR
PRODID:-//eluceo/ical//2.0/EN
VERSION:2.0
CALSCALE:GREGORIAN
BEGIN:VEVENT
UID:422f56c856e54f966d8e9fd0845f002f
DTSTAMP:20260421T060733Z
SUMMARY:Federation's Guys Night Out October 2015
DESCRIPTION:United Jewish Federation of Utah\nCalendar\nhttps://shalomutah.
 org/united-jewish-federation-of-utah-calendar/federations-guys-night-out-o
 ctober-2015\n\nI hope you’ll join me at our next United Jewish Federatio
 n of Utah Men’s Event on Wednesday October 7th - at which our guest spea
 kers will be Jim Isaacson\, Director of Design Assurance at Fresenius Medi
 cal Care & Alex Shapiro\, Executive Director of the Jewish Federation of U
 tah.\n\n \n\nDate:               Wednesday\, October 7th\n\
 nTime:               6:00pm – 8:00pm\n\n \n\nPlace:    
           Home of Roger Arsht\n\n          7317 Westv...
DTSTART;TZID=America/Denver:20151007T180000
DTEND;TZID=America/Denver:20151007T200000
END:VEVENT
END:VCALENDAR
