BEGIN:VCALENDAR
PRODID:-//eluceo/ical//2.0/EN
VERSION:2.0
CALSCALE:GREGORIAN
BEGIN:VEVENT
UID:e6970a7bb8aa820c8453b0922ba18658
DTSTAMP:20260420T164110Z
SUMMARY:Free Israeli Movie Night
DESCRIPTION:United Jewish Federation of Utah\nCalendar\nhttps://shalomutah.
 org/united-jewish-federation-of-utah-calendar/free-israeli-movie-night-148
 3652623\n\nArik\, a teenage boy growing up in Haifa in 1968\, gets a job w
 orking for Yankele Bride\, a matchmaker. Yankele\, a mysterious Holocaust 
 survivor\, has an office in back of a movie theater that shows only love s
 tories\, run by a family of seven Romanian dwarves in the seedy area by th
 e port. Yankele introduces Arik to a new world\, built on the ruins of an 
 old one.\n
DTSTART;TZID=America/Denver:20170117T190000
DTEND;TZID=America/Denver:20170117T210000
END:VEVENT
END:VCALENDAR
