BEGIN:VCALENDAR
PRODID:-//eluceo/ical//2.0/EN
VERSION:2.0
CALSCALE:GREGORIAN
BEGIN:VEVENT
UID:cc3031b367a9308e28245757bc34855b
DTSTAMP:20260421T160318Z
SUMMARY:From Monzon to Jerusalem and Beyond
DESCRIPTION:United Jewish Federation of Utah\nCalendar\nhttps://shalomutah.
 org/united-jewish-federation-of-utah-calendar/from-monzon-to-jerusalem-and
 -beyond-1517865773\n\nGet an insider's view into the creative process. Isr
 aeli Artists\, Goldie and Moshe Monzon will present From Monzon to Jerusal
 em and Beyond.
DTSTART;TZID=America/Denver:20180222T120000
DTEND;TZID=America/Denver:20180222T140000
END:VEVENT
END:VCALENDAR
