BEGIN:VCALENDAR
PRODID:-//eluceo/ical//2.0/EN
VERSION:2.0
CALSCALE:GREGORIAN
BEGIN:VEVENT
UID:09d820bbad89c76fbe63eacc3a18c3f6
DTSTAMP:20260422T235254Z
SUMMARY:"Get Your Holiday On!" Zumba & Bazaar
DESCRIPTION:United Jewish Federation of Utah\nCalendar\nhttps://shalomutah.
 org/united-jewish-federation-of-utah-calendar/get-your-holiday-on-zumba--b
 azaar-1444683832\n\nJoin Jewish Family Service for the second annual "Get 
 Your Holiday On!" Zumba & Bazaar event on Nov. 18 at Temple Har Shalom in 
 Park City! Groove to the latest in Zumba dance at 6:30pm (optional) and th
 en enjoy refreshments while you peruse holiday gifts created by local art
 isans at an eclectic\, exclusive bazaar from 7:30-9:00pm. Register online 
 or pay at the door\, $25 suggested donation. All proceeds benefit JFS. We 
 will also have an opportunity drawing for one-of-a-kind items crafted by o
 u...
DTSTART;TZID=America/Denver:20151118T183000
DTEND;TZID=America/Denver:20151118T210000
END:VEVENT
END:VCALENDAR
