BEGIN:VCALENDAR
PRODID:-//eluceo/ical//2.0/EN
VERSION:2.0
CALSCALE:GREGORIAN
BEGIN:VEVENT
UID:0d6a6175787c85b5e6ce7b57c451ada0
DTSTAMP:20260421T081345Z
SUMMARY:Girls Brunch Out
DESCRIPTION:United Jewish Federation of Utah\nCalendar\nhttps://shalomutah.
 org/united-jewish-federation-of-utah-calendar/girls-brunch-out\n\nPlease j
 oin us to a special Sunday Brunch at the home of Diane Warsoff. 801-583-56
 55.\n\nTopic: Let My Torah Go: Women of the Wall and the Struggle to Liber
 ate the Kotel\n\n​Speaker: Lesley Sacks\, Executive Director of Women of
  the Wall\n\ncost: Free\n\nRSVP: doren@shalomutah.org
DTSTART;TZID=America/Denver:20151018T103000
DTEND;TZID=America/Denver:20151018T123000
END:VEVENT
END:VCALENDAR
