BEGIN:VCALENDAR
PRODID:-//eluceo/ical//2.0/EN
VERSION:2.0
CALSCALE:GREGORIAN
BEGIN:VEVENT
UID:dce8fe839430ff4505de266697d366f9
DTSTAMP:20260420T180339Z
SUMMARY:Girls Morning Out 2017
DESCRIPTION:United Jewish Federation of Utah\nCalendar\nhttps://shalomutah.
 org/united-jewish-federation-of-utah-calendar/girls-morning-out-2017\n\nSh
 alom All\,\n\nJoin us on April 16\, 2017 at 11:00 a.m. for a Special Gi
 rls' "Night" Out - an event with interesting conversation by and for women
 . \n\nWhere: Home of Diane Hartz Warsoff\, Salt Lake City\, UT 84108. W
 e are happy to help arrange car pools from Park City. We suggest you will 
 meet at Jeremy Ranch Park & Ride at 10:30 a.m.\n\nFood: Please note that t
 here will be light refreshments\; however\, due to Passover and kashrut\, 
 Diane will prepare the all the refreshments for this event...
DTSTART;TZID=America/Denver:20170416T110000
DTEND;TZID=America/Denver:20170416T130000
END:VEVENT
END:VCALENDAR
