BEGIN:VCALENDAR
PRODID:-//eluceo/ical//2.0/EN
VERSION:2.0
CALSCALE:GREGORIAN
BEGIN:VEVENT
UID:2510ce53cfad18f194e00f8f54d69b64
DTSTAMP:20260420T180442Z
SUMMARY:Girls Night Out
DESCRIPTION:United Jewish Federation of Utah\nCalendar\nhttps://shalomutah.
 org/united-jewish-federation-of-utah-calendar/girls-night-out-1420678252\n
 \nGirls Night Out\nPlease join us for the United Jewish Federation of Utah
  &ldquo\;Girls&rsquo\; Night Out&rdquo\; on Thursday\, January 15\, 2015\,
  at 7:00 pm\, at the home of Kitty Kaplan\, 3170 East Alta Hills Drive\, S
 andy\, UT 84093\, 801-942-5133.\nFood:    heavy hors d&#039\;oevres and de
 ssert will be served\nGuest Presenter:  Joan Trumpauer Mulholland         
   \nTopic:  The Jewish connection with the Civil Rights movement\nBio: Joa
 n Trumpauer Mulholland\, an unsung Civil Rights legend\, grew up in the se
 gregationist...
DTSTART;TZID=America/Denver:20150115T190000
DTEND;TZID=America/Denver:20150115T210000
END:VEVENT
END:VCALENDAR
