BEGIN:VCALENDAR
PRODID:-//eluceo/ical//2.0/EN
VERSION:2.0
CALSCALE:GREGORIAN
BEGIN:VEVENT
UID:a2b22a3136e3b74783deaab27febfb18
DTSTAMP:20260422T215429Z
SUMMARY:Girls Night Out
DESCRIPTION:United Jewish Federation of Utah\nCalendar\nhttps://shalomutah.
 org/united-jewish-federation-of-utah-calendar/girls-night-out-1476121800\n
 \nJoin us on October 26 for Girls' Night Out - an evening of interesting c
 onversation by and for women.\nWhen: Wednesday\, October 26\, 2016\, 7:00p
 m\nWhere: Home of Diane Hartz Warsoff\, 1433 S. Ambassador Way\, Salt Lake
  City\, 84108 - NOTE: AMbassador Way is a circular street\, 1433 is on the
  lower end of the circle (West). 801-583-5655\nCost: Free\nFood: Out of re
 spect to all our attendees’ dietary restrictions and observances\, and t
 o respect the kashrut in the home of our host\, please bring onl...
DTSTART;TZID=America/Denver:20161026T190000
DTEND;TZID=America/Denver:20161026T210000
END:VEVENT
END:VCALENDAR
