BEGIN:VCALENDAR
PRODID:-//eluceo/ical//2.0/EN
VERSION:2.0
CALSCALE:GREGORIAN
BEGIN:VEVENT
UID:2ccf541fac29f853378b263ebc389230
DTSTAMP:20260421T015100Z
SUMMARY:Girls Night Out August 2016
DESCRIPTION:United Jewish Federation of Utah\nCalendar\nhttps://shalomutah.
 org/united-jewish-federation-of-utah-calendar/girls-night-out-august-2016\
 n\nPlace:              Home of Ronna Cohen\, SLC \n\nFood: 
               Potluck of light food\, wine and dessert will be serv
 ed\n\nCost:                free\n\nRSVP with your the kind 
 of vegetarian food you'll be bringing\n\nGuest Presenter:       Ronn
 a Cohen\n\nTopic:          How Wall Street really operates?\n\nSh
 e will not talk about investing.\nShe will not talk about investment advic
 e.\nShe will not talk about retirement planning.\nRonna w...
DTSTART;TZID=America/Denver:20160824T190000
DTEND;TZID=America/Denver:20160824T210000
END:VEVENT
END:VCALENDAR
