BEGIN:VCALENDAR
PRODID:-//eluceo/ical//2.0/EN
VERSION:2.0
CALSCALE:GREGORIAN
BEGIN:VEVENT
UID:ed964c7067cce6221794c463a66b9556
DTSTAMP:20260420T173804Z
SUMMARY:Girls Night Out Feb 23
DESCRIPTION:United Jewish Federation of Utah\nCalendar\nhttps://shalomutah.
 org/united-jewish-federation-of-utah-calendar/girls-night-out-feb-23\n\nJo
 in us on February 23\, 2017 at 7:00pm for Girls' Night Out - an evening 
 of interesting conversation by and for women. \n\nWhere: Home of Bonnie 
 Rokeach\, SLC\,   We are happy to help arrange car pools from Park City.
 \n\nCost: Free\n\nFood: Out of respect to all our attendees’ dietary re
 strictions and observances\, please bring only Vegetarian and / or Dairy d
 ishes to share. Thanks so much for honoring this request. If you have any
  kashrut questions\, please contact Diane directly at di...
DTSTART;TZID=America/Denver:20170223T190000
DTEND;TZID=America/Denver:20170223T210000
END:VEVENT
END:VCALENDAR
