BEGIN:VCALENDAR
PRODID:-//eluceo/ical//2.0/EN
VERSION:2.0
CALSCALE:GREGORIAN
BEGIN:VEVENT
UID:6bca7bdf992ee53758678b26eeedc926
DTSTAMP:20260420T180452Z
SUMMARY:Girl's Night Out Feb2019
DESCRIPTION:United Jewish Federation of Utah\nCalendar\nhttps://shalomutah.
 org/united-jewish-federation-of-utah-calendar/girls-night-out-feb2019\n\nS
 peaker: Dara Cohen\n\nPlanning for the Future\n\nUnique and thoughtful est
 ate planning solutions for every individual or family based on their needs
  and goals.\n\nCome with your questions\, concerns and what you've always 
 wanted to know but were afraid to ask.
DTSTART;TZID=America/Denver:20190228T190000
DTEND;TZID=America/Denver:20190228T210000
END:VEVENT
END:VCALENDAR
