BEGIN:VCALENDAR
PRODID:-//eluceo/ical//2.0/EN
VERSION:2.0
CALSCALE:GREGORIAN
BEGIN:VEVENT
UID:33478629660122f177d8788dc6a669d5
DTSTAMP:20260421T183244Z
SUMMARY:Girls Night Out Jan 2017
DESCRIPTION:United Jewish Federation of Utah\nCalendar\nhttps://shalomutah.
 org/united-jewish-federation-of-utah-calendar/girls-night-out-jan-2017\n\n
 Join us on January 18\, 2017 for Girls' Night Out - an evening of intere
 sting conversation by and for women. \n\n When: Wednesday\, January 18\,
  2017\, 7:00pm\n\nWhere: Home of Marsha Bronsky\n\nCost: Free\n\nFood: 
 Out of respect to all our attendees’ dietary restrictions and observance
 s\, please bring only Vegetarian and / or Dairy dishes to share. Thanks s
 o much for honoring this request. If you have any kashrut questions\, plea
 se contact Diane directly at diane.warsoff@gmail.com \n\nR...
DTSTART;TZID=America/Denver:20170118T190000
DTEND;TZID=America/Denver:20170118T210000
END:VEVENT
END:VCALENDAR
