BEGIN:VCALENDAR
PRODID:-//eluceo/ical//2.0/EN
VERSION:2.0
CALSCALE:GREGORIAN
BEGIN:VEVENT
UID:dc0c12ac7c78c824aaf8806d02321ac9
DTSTAMP:20260420T225042Z
SUMMARY:Girls Night Out June 2015
DESCRIPTION:United Jewish Federation of Utah\nCalendar\nhttps://shalomutah.
 org/united-jewish-federation-of-utah-calendar/girls-night-out-june-2015\n\
 nPlease join us for the United Jewish Federation of Utah “Girls’ Night
  Out” on Tuesday\, June\, 30\, 2015\, at 7:00 pm\, at the home of Toba E
 ssig.\n\nFood:    heavy hors d'oevres and dessert will be served\n\nGue
 st Presenter:  Liz Tashjian      \n\nTopic:  Women and Finance\n\n
 Bio: Tashjian received her Ph.D. in Finance from Purdue University and her
  B.A. in Mathematics from Boston College. Tashjian has been on the faculty
  at Tulane University and has been a visiting professor at ...
DTSTART;TZID=America/Denver:20150630T190000
DTEND;TZID=America/Denver:20150630T210000
END:VEVENT
END:VCALENDAR
