BEGIN:VCALENDAR
PRODID:-//eluceo/ical//2.0/EN
VERSION:2.0
CALSCALE:GREGORIAN
BEGIN:VEVENT
UID:ad1db5b6845958adcdde86c5025bd341
DTSTAMP:20260420T163629Z
SUMMARY:Girls Night Out June 2016
DESCRIPTION:United Jewish Federation of Utah\nCalendar\nhttps://shalomutah.
 org/united-jewish-federation-of-utah-calendar/girls-night-out-june-2016-14
 65510708\n\nPlease join for our Third ANNUAL Wine Tasting with John Davis 
 and the United Jewish Federation of Utah &ldquo\;Girls&rsquo\; Night Out&r
 dquo\; on Tuesday\, June 28\, 2015.\n Date: Tuesday\, June 28\, 2016\nTime
 : 7:00 p.m.\nPlace: Home of Joy Fisher\n\nNOTE: To keep these events self-
 funding\, we are charging $18 to cover the cost of the wine for the evenin
 g (so there is NO NEED to bring wine this month!). Also\, to ensure suffic
 ient wine\, we will need to cap this event at 30 people. \nClick here to p
 ay $18 on line:...
DTSTART;TZID=America/Denver:20160628T190000
DTEND;TZID=America/Denver:20160628T210000
END:VEVENT
END:VCALENDAR
