BEGIN:VCALENDAR
PRODID:-//eluceo/ical//2.0/EN
VERSION:2.0
CALSCALE:GREGORIAN
BEGIN:VEVENT
UID:9448fcc830f5e2a05abf4a4a110e2dcc
DTSTAMP:20260420T144704Z
SUMMARY:Girls Night Out May 2016
DESCRIPTION:United Jewish Federation of Utah\nCalendar\nhttps://shalomutah.
 org/united-jewish-federation-of-utah-calendar/girls-night-out-may-2016\n\n
 Please join us for Girls’ Night Out and celebrate Yom Ha’atzmaut!\n\nT
 opic: The State of Liberal Judaism in Israel \n\nSpeaker: Rabbi Ilana Schw
 artzman\n\nWhen: May 12\, 2016\, 7:00 p.m.\n\nWhere: Home of April Dubiner
   \n\nFood: Potluck - Please bring an Israeli themed VEGETARIAN dish so 
 that we can be inclusive for all our guests. If you have any questions\, p
 lease contact Diane at diane.warsoff@gmail.com.\n\nRSVP to Drora at doren@
 shalomutah.org or (801) 581-0102\n\nSpeaker Bio: Rabbi I...
DTSTART;TZID=America/Denver:20160512T190000
DTEND;TZID=America/Denver:20160512T210000
END:VEVENT
END:VCALENDAR
