BEGIN:VCALENDAR
PRODID:-//eluceo/ical//2.0/EN
VERSION:2.0
CALSCALE:GREGORIAN
BEGIN:VEVENT
UID:ba960db043e37eb85b33456b7f68b2b0
DTSTAMP:20260420T041504Z
SUMMARY:Girls Night Out Sept 2015
DESCRIPTION:United Jewish Federation of Utah\nCalendar\nhttps://shalomutah.
 org/united-jewish-federation-of-utah-calendar/girls-night-out-sept-2015\n\
 nDate:                     Tuesday\, September 8\, 201
 5\n\nTime:                    7:00pm – 9:00pm\n\nPlace
 :                     Home of Sheila Gelman\n\n Food:
                     Heavy hors d'oeuvres and dessert wil
 l be served\n\nCost:                      Free\n\nRSVP
 :                    doren@shalomutah.org\n\n \n\nGuest
  Presenter:            Dr. Rachel Benator\n\n...
DTSTART;TZID=America/Denver:20150908T190000
DTEND;TZID=America/Denver:20150908T210000
END:VEVENT
END:VCALENDAR
