BEGIN:VCALENDAR
PRODID:-//eluceo/ical//2.0/EN
VERSION:2.0
CALSCALE:GREGORIAN
BEGIN:VEVENT
UID:5b11a12a981e2b0c82df38d0f2aa51b4
DTSTAMP:20260421T225756Z
SUMMARY:Girl's Night Out Sukkah Party
DESCRIPTION:United Jewish Federation of Utah\nCalendar\nhttps://shalomutah.
 org/united-jewish-federation-of-utah-calendar/girls-night-out-sukkah-party
 -1536337469\n\nEnjoy some snacks and shmooze time before we learn as a gro
 up.  There will also be time to shake the lulav and perform the mitzvah of
  sitting in the sukkah.
DTSTART;TZID=America/Denver:20180926T190000
DTEND;TZID=America/Denver:20180926T210000
END:VEVENT
END:VCALENDAR
