BEGIN:VCALENDAR
PRODID:-//eluceo/ical//2.0/EN
VERSION:2.0
CALSCALE:GREGORIAN
BEGIN:VEVENT
UID:731b5c1e9525dd2547895462e0c328eb
DTSTAMP:20260421T032611Z
SUMMARY:Global Connections with Robert Siegel: Combating Antisemitism
DESCRIPTION:United Jewish Federation of Utah\nCalendar\nhttps://shalomutah.
 org/united-jewish-federation-of-utah-calendar/global-connections-with-robe
 rt-siegel-combating-antisemitism-1694025610\n\nRobert Siegel (NPR) intervi
 ews: Dr. Georgette Bennett\, Dan Granot & Tamara Berens
DTSTART;TZID=America/Denver:20230913T140000
DTEND;TZID=America/Denver:20230913T150000
END:VEVENT
END:VCALENDAR
