BEGIN:VCALENDAR
PRODID:-//eluceo/ical//2.0/EN
VERSION:2.0
CALSCALE:GREGORIAN
BEGIN:VEVENT
UID:aff34384ea92c9ff667c91e932f0119a
DTSTAMP:20260423T004310Z
SUMMARY:Grand Menorah Lighting and Chanukah Celebration
DESCRIPTION:United Jewish Federation of Utah\nCalendar\nhttps://shalomutah.
 org/united-jewish-federation-of-utah-calendar/grand-menorah-lighting-and-c
 hanukah-celebration-1606179654\n\nChabad Lubavitch of Utah invites you to 
 join in their annual Chanukah celebration - DRIVE- IN STYLE!\nAppearances 
 from dignitaries\, religious leaders and communal figures.\nWatch the Ligh
 ting of Utah's tallest menorah ever! Towering 20 feet over the State Capit
 ol Grounds.\nReserve your spot : utahchanukah.eventbrite.com
DTSTART;TZID=America/Denver:20201210T173000
DTEND;TZID=America/Denver:20201210T183000
END:VEVENT
END:VCALENDAR
