BEGIN:VCALENDAR
PRODID:-//eluceo/ical//2.0/EN
VERSION:2.0
CALSCALE:GREGORIAN
BEGIN:VEVENT
UID:b9efcfcfeb4d591ad04b0709449d1322
DTSTAMP:20260419T201213Z
SUMMARY:Greater Salt Lake Chapter of Hadassah Installation of new board and
  Party
DESCRIPTION:United Jewish Federation of Utah\nCalendar\nhttps://shalomutah.
 org/united-jewish-federation-of-utah-calendar/greater-salt-lake-chapter-of
 -hadassah-installation-of-new-board-and-party-1516037947\n\nGreater Salt L
 ake Chapter of Hadassah installation of new board followed by party.  Open
  to all Hadassah members and people who are interested in learning more ab
 out Hadassah.   Following brunch\, there will be a board training for the 
 officers.
DTSTART;TZID=America/Denver:20180211T093000
DTEND;TZID=America/Denver:20180211T143000
END:VEVENT
END:VCALENDAR
