BEGIN:VCALENDAR
PRODID:-//eluceo/ical//2.0/EN
VERSION:2.0
CALSCALE:GREGORIAN
BEGIN:VEVENT
UID:a77c660d274f427c42241f475db80293
DTSTAMP:20260421T180909Z
SUMMARY:Guys Night Out
DESCRIPTION:United Jewish Federation of Utah\nCalendar\nhttps://shalomutah.
 org/united-jewish-federation-of-utah-calendar/guys-night-out\n\nPlace:  
             Home of Bill Oshinsky\n\n             
            2219 Saddlehorn Drive\n\n              
           Park City\, UT\n\nFood:               Ligh
 t Dinner will be served\n\nCost:                $15 at the d
 oor – honor system \n\nGuest Presenter:             Jack Am
 iel\, Television & Feature Film Screenwriter\n\nBio            
        Jack Amiel is a television and fe...
DTSTART;TZID=America/Denver:20141211T180000
DTEND;TZID=America/Denver:20141211T203000
END:VEVENT
END:VCALENDAR
