BEGIN:VCALENDAR
PRODID:-//eluceo/ical//2.0/EN
VERSION:2.0
CALSCALE:GREGORIAN
BEGIN:VEVENT
UID:51c954fa6bfc6ea5aa8ede389a220b7b
DTSTAMP:20260420T143322Z
SUMMARY:Guys Night Out
DESCRIPTION:United Jewish Federation of Utah\nCalendar\nhttps://shalomutah.
 org/united-jewish-federation-of-utah-calendar/guys-night-out-1420677960\n\
 nI&rsquo\;m excited to invite you to  join us for the first United Jewish 
 Federation of Utah &ldquo\;Men&rsquo\;s Event&rdquo\; of 2015 on Wednesday
  January 14th - at which our guest speaker will be our own Glen Mintz\, Se
 nior Portfolio Manager at UBS. Join us for a fascinating financial discuss
 ion &ndash\; and a fun &amp\; relaxing evening.\n \nDate:               We
 dnesday &ndash\; January 14\, 2015\nTime:               6:00pm &ndash\; 8:
 00pm (please note time change to 6pm)\n \nPlace:              Home of John
  Scarlet\n                       ...
DTSTART;TZID=America/Denver:20150114T180000
DTEND;TZID=America/Denver:20150114T200000
END:VEVENT
END:VCALENDAR
