BEGIN:VCALENDAR
PRODID:-//eluceo/ical//2.0/EN
VERSION:2.0
CALSCALE:GREGORIAN
BEGIN:VEVENT
UID:1a752579cca6cd58c373b79d808395b3
DTSTAMP:20260419T201924Z
SUMMARY:Guys Night Out 2015
DESCRIPTION:United Jewish Federation of Utah\nCalendar\nhttps://shalomutah.
 org/united-jewish-federation-of-utah-calendar/guys-night-out-2015\n\nPleas
 e join us for a most interesting evening:\n\nPlace: Home of Ben Nitka\, P
 ark City\, Utah\n\nTime: 6:00\n\nSpeaker: Ed Rutan\n\nRSVP: Alex Shapiro a
 shapiro@shalomutah.org\n\nFROM LAWYER TO HISTORIAN\n\nEd Rutan\, the forme
 r City Attorney for Salt Lake City\, has written a fascinating book about 
 the experiences of Civil War soldiers caught up in the last grueling year 
 of this staggering conflict.  Digging deeply into the personal records an
 d papers of members of the 179th Regiment of New Yor...
DTSTART;TZID=America/Denver:20150630T180000
DTEND;TZID=America/Denver:20150630T203000
END:VEVENT
END:VCALENDAR
