BEGIN:VCALENDAR
PRODID:-//eluceo/ical//2.0/EN
VERSION:2.0
CALSCALE:GREGORIAN
BEGIN:VEVENT
UID:55ab4b1a0dd9ec07c8bca6382cecb85d
DTSTAMP:20260420T131058Z
SUMMARY:Federation Guys Night Out Aug 2015
DESCRIPTION:United Jewish Federation of Utah\nCalendar\nhttps://shalomutah.
 org/united-jewish-federation-of-utah-calendar/guys-night-out-aug-2015\n\nD
 ate:               Thursday\, August 20th\n\nTime:     
           6:00pm – 8:00pm\n\nPlace:              Ho
 me of Jim Schallheim\n\nFood:               Light Dinner will
  be served\n\nCost:                $15 at the door – honor
  system \n\nRSVP:                    ashapiro@shalomuta
 h.org\n\nGuest Presenter:             Bob Goldberg\n\nTopic: 
             “KKK\, the Clarion Colony\, Ba...
DTSTART;TZID=America/Denver:20150820T180000
DTEND;TZID=America/Denver:20150820T200000
END:VEVENT
END:VCALENDAR
