BEGIN:VCALENDAR
PRODID:-//eluceo/ical//2.0/EN
VERSION:2.0
CALSCALE:GREGORIAN
BEGIN:VEVENT
UID:650b1a4c5add00397c23956ce77d7add
DTSTAMP:20260422T141304Z
SUMMARY:Guys Night Out August 2016
DESCRIPTION:United Jewish Federation of Utah\nCalendar\nhttps://shalomutah.
 org/united-jewish-federation-of-utah-calendar/guys-night-out-august-2016\n
 \nSpeaker: Tommy Tanzer \n\nPlace:  Home of Roger Arsht\n\nTopic:  Base
 ball - Baseball - Baseball\n\nPark City resident Tommy Tanzer has enjoyed 
 a 25 year career as a Major League Baseball agent.  His last and current 
 client and friend Joe Maddon\, is the Manager of the League-leading Chicag
 o Cubs.\n\nThis will be Tommy's third Men's Group appearance where he will
  share his unique insights into America's national pastime and his take on
  the current pennant races. \n\n 
DTSTART;TZID=America/Denver:20160824T180000
DTEND;TZID=America/Denver:20160824T200000
END:VEVENT
END:VCALENDAR
