BEGIN:VCALENDAR
PRODID:-//eluceo/ical//2.0/EN
VERSION:2.0
CALSCALE:GREGORIAN
BEGIN:VEVENT
UID:b0e861bd5396541f48acdcdf127c4c6b
DTSTAMP:20260419T214742Z
SUMMARY:Guys Night Out -- May 2014
DESCRIPTION:United Jewish Federation of Utah\nCalendar\nhttps://shalomutah.
 org/united-jewish-federation-of-utah-calendar/guys-night-out-may-2014\n\nM
 EN'S GROUP\n\nOur next “Guys Night Out” will be on Wednesday\, May 29t
 h\, 6:00 PM at the home of Richard Jaffa\, Park City. In addition to good 
 food and conversation\, we have scheduled an informative presentation by J
 eff Tabin. Please invite your friends.\n\nFood:             Li
 ght dinner will be served\nCost:              $10 at the door
  – honor system\n\nThe goal of the Federation's Men Group is to provide 
 a mechanism for guys to come together in the spirit of c...
DTSTART;TZID=America/Denver:20140529T180000
DTEND;TZID=America/Denver:20140529T210000
END:VEVENT
END:VCALENDAR
