BEGIN:VCALENDAR
PRODID:-//eluceo/ical//2.0/EN
VERSION:2.0
CALSCALE:GREGORIAN
BEGIN:VEVENT
UID:abad6d95e022d1009beffb2976895412
DTSTAMP:20260422T174229Z
SUMMARY:Guys Night Out May 2017
DESCRIPTION:United Jewish Federation of Utah\nCalendar\nhttps://shalomutah.
 org/united-jewish-federation-of-utah-calendar/guys-night-out-may-2017\n\nJ
 oin us for a lovely evening.\n\nCost: $15 for dinner\n\nRSVP: ashapiro@sha
 lomutah.org\n\n 
DTSTART;TZID=America/Denver:20170525T180000
DTEND;TZID=America/Denver:20170525T200000
END:VEVENT
END:VCALENDAR
