BEGIN:VCALENDAR
PRODID:-//eluceo/ical//2.0/EN
VERSION:2.0
CALSCALE:GREGORIAN
BEGIN:VEVENT
UID:048577b41d0a36d4a4e17fefc8878862
DTSTAMP:20260420T163938Z
SUMMARY:HaBonim Shabbat honoring Miriam Eatchel
DESCRIPTION:United Jewish Federation of Utah\nCalendar\nhttps://shalomutah.
 org/united-jewish-federation-of-utah-calendar/habonim-shabbat-honoring-mir
 iam-eatchel-1602514277\n\nThe word HaBonim refers to builders\, and when w
 e consider those who have built this congregation into a pillar of Reform 
 Judaism in the mountains\, one of the people who first comes to mind is Mi
 riam Eatchel. Her years of commitment serving Temple Har Shalom have helpe
 d us to build a strong and connected community. We will honor Miriam on Oc
 tober 23 at 6:30pm with a Shabbat service that will highlight her exemplar
 y dedication to THS.
DTSTART;TZID=America/Denver:20201023T183000
DTEND;TZID=America/Denver:20201023T200000
END:VEVENT
END:VCALENDAR
