BEGIN:VCALENDAR
PRODID:-//eluceo/ical//2.0/EN
VERSION:2.0
CALSCALE:GREGORIAN
BEGIN:VEVENT
UID:2a729f11265ea993d71443df3de89d5f
DTSTAMP:20260420T215121Z
SUMMARY:HaBonim Temple Har Shalom Builders Award
DESCRIPTION:United Jewish Federation of Utah\nCalendar\nhttps://shalomutah.
 org/united-jewish-federation-of-utah-calendar/habonim-temple-har-shalom-bu
 ilders-award-1546973142\n\nWe will be honoring this year's Temple Har Shal
 om HaBonim recipient\, Adam Bronfman.\nJoin us for an evening of friends\,
  laughter and recognition featuring stand-up comedian & and actor Elon Gol
 d.
DTSTART;TZID=America/Denver:20190227T180000
DTEND;TZID=America/Denver:20190227T220000
END:VEVENT
END:VCALENDAR
