BEGIN:VCALENDAR
PRODID:-//eluceo/ical//2.0/EN
VERSION:2.0
CALSCALE:GREGORIAN
BEGIN:VEVENT
UID:5a202283a1369e472420906b95c70850
DTSTAMP:20260420T095040Z
SUMMARY:Hadassah\,  Research in Service to Humanity\, Ed Event
DESCRIPTION:United Jewish Federation of Utah\nCalendar\nhttps://shalomutah.
 org/united-jewish-federation-of-utah-calendar/hadassah--research-in-servic
 e-to-humanity-ed-event-1477946860\n\nHadassah Ed Event\, Research in Servi
 ce to Humanity\,  National Speaker\, Michele Rubin will talk about Hadassa
 h's Stem Cell Research. The research focuses on  ALS\, MACULAR DEGENERATIO
 N\, DIABETES\,  MELANOMA\, AND HEART DISEASE.  7pm - 10pm\, 11/19/16     $
 10/per person or $18/ per couple\nRefreshments will be served
DTSTART;TZID=America/Denver:20161119T190000
DTEND;TZID=America/Denver:20161119T220000
END:VEVENT
END:VCALENDAR
