BEGIN:VCALENDAR
PRODID:-//eluceo/ical//2.0/EN
VERSION:2.0
CALSCALE:GREGORIAN
BEGIN:VEVENT
UID:d1203ab1ed1b842b019bc4d94aa816b8
DTSTAMP:20260420T163353Z
SUMMARY:Hadassah Desert Mountain Region Meeting in Salt Lake
DESCRIPTION:United Jewish Federation of Utah\nCalendar\nhttps://shalomutah.
 org/united-jewish-federation-of-utah-calendar/hadassah-desert-mountain-reg
 ion-meeting-in-salt-lake-1562771061\n\nJoin us for our annual fall meeting
  in Salt Lake City. The Greater Salt Lake Chapter is excited to host the r
 egion and show off our little slice of heaven while pursuing the Hadassah 
 goals as a region together.
DTSTART;TZID=America/Denver:20190817T190000
DTEND;TZID=America/Denver:20190817T210000
END:VEVENT
END:VCALENDAR
