BEGIN:VCALENDAR
PRODID:-//eluceo/ical//2.0/EN
VERSION:2.0
CALSCALE:GREGORIAN
BEGIN:VEVENT
UID:b7097b62bd47c2025405c9f7d1a00561
DTSTAMP:20260422T091347Z
SUMMARY:Hadassah Donor
DESCRIPTION:United Jewish Federation of Utah\nCalendar\nhttps://shalomutah.
 org/united-jewish-federation-of-utah-calendar/hadassah-donor-1418168743\n\
 nHadassah Donor with guest speaker: Mia Love
DTSTART;TZID=America/Denver:20150802T120000
DTEND;TZID=America/Denver:20150802T140000
END:VEVENT
END:VCALENDAR
