BEGIN:VCALENDAR
PRODID:-//eluceo/ical//2.0/EN
VERSION:2.0
CALSCALE:GREGORIAN
BEGIN:VEVENT
UID:b621e9988e017a5096a05502950eda7b
DTSTAMP:20260420T200702Z
SUMMARY:Hadassah Event
DESCRIPTION:United Jewish Federation of Utah\nCalendar\nhttps://shalomutah.
 org/united-jewish-federation-of-utah-calendar/hadassah-event-1418168542\n\
 nHadassah Education Event
DTSTART;TZID=America/Denver:20150315T000000
DTEND;TZID=America/Denver:20150315T000000
END:VEVENT
END:VCALENDAR
