BEGIN:VCALENDAR
PRODID:-//eluceo/ical//2.0/EN
VERSION:2.0
CALSCALE:GREGORIAN
BEGIN:VEVENT
UID:c1bd0e87d329d637dd21da4714a63a59
DTSTAMP:20260421T065734Z
SUMMARY:Hadassah General Membership Meeting at Kol Ami
DESCRIPTION:United Jewish Federation of Utah\nCalendar\nhttps://shalomutah.
 org/united-jewish-federation-of-utah-calendar/hadassah-general-membership-
 meeting-at-kol-ami-1513282780\n\nThe Greater Salt Lake Chapter of Hadassah
  invites all members to our general meeting for the election of officers t
 o the 2018 board. We will meet in the library at Congregation Kol Ami.
DTSTART;TZID=America/Denver:20180108T190000
DTEND;TZID=America/Denver:20180108T210000
END:VEVENT
END:VCALENDAR
