BEGIN:VCALENDAR
PRODID:-//eluceo/ical//2.0/EN
VERSION:2.0
CALSCALE:GREGORIAN
BEGIN:VEVENT
UID:4013df75db8a9285cf79c6f5b77521f9
DTSTAMP:20260424T200621Z
SUMMARY:Hadassah Instillation and Board Traing
DESCRIPTION:United Jewish Federation of Utah\nCalendar\nhttps://shalomutah.
 org/united-jewish-federation-of-utah-calendar/hadassah-instillation-and-bo
 ard-traing-1418168366\n\nHadassah Instillation and Board Training
DTSTART;TZID=America/Denver:20150111T000000
DTEND;TZID=America/Denver:20150111T000000
END:VEVENT
END:VCALENDAR
