BEGIN:VCALENDAR
PRODID:-//eluceo/ical//2.0/EN
VERSION:2.0
CALSCALE:GREGORIAN
BEGIN:VEVENT
UID:82465fb813228626b5c7ed7f6c6d6b97
DTSTAMP:20260421T111810Z
SUMMARY:Hadassah Shabbat
DESCRIPTION:United Jewish Federation of Utah\nCalendar\nhttps://shalomutah.
 org/united-jewish-federation-of-utah-calendar/hadassah-shabbat-1452561116\
 n\nHadassah Shabbat at Kol Ami
DTSTART;TZID=America/Denver:20160326T000000
DTEND;TZID=America/Denver:20160326T000000
END:VEVENT
END:VCALENDAR
